Workbook

Sheet Surat Masuk
A1: DAFTAR SURAT MASUK UNIVERSITAS PENDIDIKAN INDONESIA TAHUN 2025
A2: F1 | B2: F2 | C2: F3 | D2: F4 | E2: F5 | F2: F6 | G2: F7 | H2: F8 | I2: F9 | J2: F10 | K2: F11 | L2: F12 | M2: F13 | N2: F14 | O2: F15 | P2: F16 | Q2: F17 | R2: F18 | S2: F19 | T2: F20 | U2: F21 | V2: HAPUS
A3: NOMOR INDEKS | B3: TANGGAL | C3: PENGIRIM | D3: IDENTITAS SURAT | G3: PERIHAL SURAT | H3: DITUJUKAN KEPADA | I3: PENERIMA | L3: KETERANGAN | M3: MEDIA | N3: SUMBER | P3: Agenda | Q3: INSTRUKSI | R3: FOLLOW UP | S3: TERUSAN SURAT | T3: TANGGAL TERIMA | U3: PENERIMA BHK | V3: HAPUS
D4: NOMOR | E4: KODE | F4: TANGGAL | I4: NAMA | J4: TANGGAL | K4: PARAF | V4: HAPUS
A5: 0001 | B5: 2 Januari 2025 | C5: Pusat Pendidikan Hukum Direktorat Hukum TNI AD | D5: - | E5: =IF( AND( ISNUMBER( MATCH(LEFT(RIGHT(D5,8),4),{"/AK/","/BW/","/DO/","/DK/","/EP/","/HM/","/HK/","/IN/","/KI/","/AR/","/KL/","/KM/","/KP/","/DN/","/LN/","/RT/","/TU/","/KU/","/KR/","/MI/","/MK/","/OT/","/LP/","/DL/","/LT/","/PM/","/PW/","/PG/","/PP/","/MU/","/IL/","/PR/","/PI/","/PL/","/PK/","/PB/","/SP/","/SE/","/TI/","/LL/","/DT/","/LK/","/WS/","/TP/","/KS/","/SR/","/SK/","PJ"},0) ), ISNUMBER(SEARCH("40",D5) ) ),LEFT(RIGHT(D5,7),2), "-" ) -> - | F5: 31 Desember 2024 | G5: Mohon Diri Masa Penugasan Sebagai Danpusdikkum Ditkumad | H5: Rektor | I5: Kinanti | J5: 6 Januari 2025 10.00 | M5: SINERGI | P5: =A5&"/UN40.SU. /2025" -> 0001/UN40.SU. /2025
A6: 0002 | B6: 2 Januari 2025 | C6: Otoritas Jasa Keuangan | D6: S-313/PB.02/2024 | E6: =IF( AND( ISNUMBER( MATCH(LEFT(RIGHT(D6,8),4),{"/AK/","/BW/","/DO/","/DK/","/EP/","/HM/","/HK/","/IN/","/KI/","/AR/","/KL/","/KM/","/KP/","/DN/","/LN/","/RT/","/TU/","/KU/","/KR/","/MI/","/MK/","/OT/","/LP/","/DL/","/LT/","/PM/","/PW/","/PG/","/PP/","/MU/","/IL/","/PR/","/PI/","/PL/","/PK/","/PB/","/SP/","/SE/","/TI/","/LL/","/DT/","/LK/","/WS/","/TP/","/KS/","/SR/","/SK/","PJ"},0) ), ISNUMBER(SEARCH("40",D6) ) ),LEFT(RIGHT(D6,7),2), "-" ) -> - | F6: 19 Desember 2024 | G6: Diseminasi dan Survei Booklet Perbankan Indonesia Tahun 2024 (Berkas Terlampir) | H6: Rektor | I6: Kinanti | J6: 6 Januari 2025 10.00 | M6: SINERGI | P6: =A6&"/UN40.SU. /2025" -> 0002/UN40.SU. /2025
A7: 0003 | B7: 3 Januari 2025 | C7: Protokol Bumi Siliwangi | D7: 22.21/579-PROBUMSIL/I-V/2024 | E7: =IF( AND( ISNUMBER( MATCH(LEFT(RIGHT(D7,8),4),{"/AK/","/BW/","/DO/","/DK/","/EP/","/HM/","/HK/","/IN/","/KI/","/AR/","/KL/","/KM/","/KP/","/DN/","/LN/","/RT/","/TU/","/KU/","/KR/","/MI/","/MK/","/OT/","/LP/","/DL/","/LT/","/PM/","/PW/","/PG/","/PP/","/MU/","/IL/","/PR/","/PI/","/PL/","/PK/","/PB/","/SP/","/SE/","/TI/","/LL/","/DT/","/LK/","/WS/","/TP/","/KS/","/SR/","/SK/","PJ"},0) ), ISNUMBER(SEARCH("40",D7) ) ),LEFT(RIGHT(D7,7),2), "-" ) -> - | F7: 29 Desember 2024 | G7: Permohonan Bantuan Dana Rangkaian Candradimuka Tingkat Dasar Protokol Bumi Siliwangi UPI Angkatan XVIII | H7: WR PK | I7: Tito | J7: 6 Januari 2025 10.00 | M7: SINERGI | P7: =A7&"/UN40.SU. /2025" -> 0003/UN40.SU. /2025
A8: 0004 | B8: 6 Januari 2025 | C8: Lembaga Penelitian dan Pengkajian Intelektual Mahasiswa (LEPPIM) | D8: 010/C-SPm/Pan. SeminarPPK-UKM.LEPPIM.UPI/I/2025 | E8: =IF( AND( ISNUMBER( MATCH(LEFT(RIGHT(D8,8),4),{"/AK/","/BW/","/DO/","/DK/","/EP/","/HM/","/HK/","/IN/","/KI/","/AR/","/KL/","/KM/","/KP/","/DN/","/LN/","/RT/","/TU/","/KU/","/KR/","/MI/","/MK/","/OT/","/LP/","/DL/","/LT/","/PM/","/PW/","/PG/","/PP/","/MU/","/IL/","/PR/","/PI/","/PL/","/PK/","/PB/","/SP/","/SE/","/TI/","/LL/","/DT/","/LK/","/WS/","/TP/","/KS/","/SR/","/SK/","PJ"},0) ), ISNUMBER(SEARCH("40",D8) ) ),LEFT(RIGHT(D8,7),2), "-" ) -> - | F8: 3 Januari 2025 | G8: Permohonan Bantuan Dana Seminar PPK Ormawa UKM LEPPIM UPI 2025 | H8: WR PK | I8: Tito | J8: 6 Januari 2025 10.00 | M8: SINERGI | P8: =A8&"/UN40.SU. /2025" -> 0004/UN40.SU. /2025
A9: 0005 | B9: 6 Januari 2025 | C9: Dr. Herman Syafri, M.Pd | D9: - | E9: =IF( AND( ISNUMBER( MATCH(LEFT(RIGHT(D9,8),4),{"/AK/","/BW/","/DO/","/DK/","/EP/","/HM/","/HK/","/IN/","/KI/","/AR/","/KL/","/KM/","/KP/","/DN/","/LN/","/RT/","/TU/","/KU/","/KR/","/MI/","/MK/","/OT/","/LP/","/DL/","/LT/","/PM/","/PW/","/PG/","/PP/","/MU/","/IL/","/PR/","/PI/","/PL/","/PK/","/PB/","/SP/","/SE/","/TI/","/LL/","/DT/","/LK/","/WS/","/TP/","/KS/","/SR/","/SK/","PJ"},0) ), ISNUMBER(SEARCH("40",D9) ) ),LEFT(RIGHT(D9,7),2), "-" ) -> - | F9: 4 Januari 2025 | G9: Permohonan Mutasi a.n. Dr. Herman Syafri, M.Pd | H9: Rektor | I9: Kinanti | J9: 6 Januari 2025 10.00 | M9: SINERGI | P9: =A9&"/UN40.SU. /2025" -> 0005/UN40.SU. /2025
A10: 0006 | B10: 6 Januari 2025 | C10: PT Bank Negara Indonesia (Persero) Tbk | D10: PSF/1/6151 | E10: =IF( AND( ISNUMBER( MATCH(LEFT(RIGHT(D10,8),4),{"/AK/","/BW/","/DO/","/DK/","/EP/","/HM/","/HK/","/IN/","/KI/","/AR/","/KL/","/KM/","/KP/","/DN/","/LN/","/RT/","/TU/","/KU/","/KR/","/MI/","/MK/","/OT/","/LP/","/DL/","/LT/","/PM/","/PW/","/PG/","/PP/","/MU/","/IL/","/PR/","/PI/","/PL/","/PK/","/PB/","/SP/","/SE/","/TI/","/LL/","/DT/","/LK/","/WS/","/TP/","/KS/","/SR/","/SK/","PJ"},0) ), ISNUMBER(SEARCH("40",D10) ) ),LEFT(RIGHT(D10,7),2), "-" ) -> - | F10: 18 Desember 2024 | G10: Surat Pemberitahuan Perubahan Perjanjian Kerjasama dan/atau Akad Wakalah tentang Program Pensiun Iuran Pasti (PPIP) | H10: Rektor | I10: Kinanti | J10: 6 Januari 2025 10.00 | M10: SINERGI | P10: =A10&"/UN40.SU. /2025" -> 0006/UN40.SU. /2025
A11: 0007 | B11: 6 Januari 2025 | C11: Plt. Sekretaris Ditjen Dikti Ristek | D11: 8770/E1/TI.03.00/2024 | E11: =IF( AND( ISNUMBER( MATCH(LEFT(RIGHT(D11,8),4),{"/AK/","/BW/","/DO/","/DK/","/EP/","/HM/","/HK/","/IN/","/KI/","/AR/","/KL/","/KM/","/KP/","/DN/","/LN/","/RT/","/TU/","/KU/","/KR/","/MI/","/MK/","/OT/","/LP/","/DL/","/LT/","/PM/","/PW/","/PG/","/PP/","/MU/","/IL/","/PR/","/PI/","/PL/","/PK/","/PB/","/SP/","/SE/","/TI/","/LL/","/DT/","/LK/","/WS/","/TP/","/KS/","/SR/","/SK/","PJ"},0) ), ISNUMBER(SEARCH("40",D11) ) ),LEFT(RIGHT(D11,7),2), "-" ) -> - | F11: 25 Desember 2024 | G11: Sistem Penilaian Maturitas Pengelolaan PDDikti | H11: Rektor | I11: Sinergi Langsung | J11: 2 Januari 2025 10.00 | M11: SINERGI | N11: WA | O11: Pa Tito | P11: =A11&"/UN40.SU. /2025" -> 0007/UN40.SU. /2025
A12: 0008 | B12: 6 Januari 2025 | C12: Kasespim Lemdiklat Polri | D12: - | E12: =IF( AND( ISNUMBER( MATCH(LEFT(RIGHT(D12,8),4),{"/AK/","/BW/","/DO/","/DK/","/EP/","/HM/","/HK/","/IN/","/KI/","/AR/","/KL/","/KM/","/KP/","/DN/","/LN/","/RT/","/TU/","/KU/","/KR/","/MI/","/MK/","/OT/","/LP/","/DL/","/LT/","/PM/","/PW/","/PG/","/PP/","/MU/","/IL/","/PR/","/PI/","/PL/","/PK/","/PB/","/SP/","/SE/","/TI/","/LL/","/DT/","/LK/","/WS/","/TP/","/KS/","/SR/","/SK/","PJ"},0) ), ISNUMBER(SEARCH("40",D12) ) ),LEFT(RIGHT(D12,7),2), "-" ) -> - | F12: 6 Januari 2025 | G12: Undangan Upacara Pembukaan Pendidikan Sespimti Polri Dikreg Ke-34 dan Sespimmen Polri Dikreg Ke-65 T.A. 2025. Tanggal 15 Januari 2025 pukul 09.00 di Gedung Utaryo Sespim Lemdiklat Polri | H12: Rektor | I12: Sinergi Langsung | J12: 6 Januari 2025 14.00 | M12: SINERGI | N12: WA | O12: Hotline | P12: =A12&"/UN40.SU. /2025" -> 0008/UN40.SU. /2025
A13: 0009 | B13: 6 Januari 2025 | C13: Plt. Sekretaris Direktorat Jenderal Pendidikan Tinggi, Riset, dan Teknologi | D13: 0011/E1/PR.06.01/2025 | E13: =IF( AND( ISNUMBER( MATCH(LEFT(RIGHT(D13,8),4),{"/AK/","/BW/","/DO/","/DK/","/EP/","/HM/","/HK/","/IN/","/KI/","/AR/","/KL/","/KM/","/KP/","/DN/","/LN/","/RT/","/TU/","/KU/","/KR/","/MI/","/MK/","/OT/","/LP/","/DL/","/LT/","/PM/","/PW/","/PG/","/PP/","/MU/","/IL/","/PR/","/PI/","/PL/","/PK/","/PB/","/SP/","/SE/","/TI/","/LL/","/DT/","/LK/","/WS/","/TP/","/KS/","/SR/","/SK/","PJ"},0) ), ISNUMBER(SEARCH("40",D13) ) ),LEFT(RIGHT(D13,7),2), "-" ) -> - | F13: 5 Januari 2025 | G13: Laporan Penggunaan Insentif Indikator Kinerja Utama (IKU) Tahun Anggaran 2024 | H13: Rektor | I13: Sinergi Langsung | J13: 6 Januari 2025 14.00 | M13: SINERGI | N13: SINDE | P13: =A13&"/UN40.SU. /2025" -> 0009/UN40.SU. /2025
A14: 0010 | B14: 6 Januari 2025 | C14: PT. Solindo Duta Praga | D14: 001/SP/SDP/I/2025 | E14: =IF( AND( ISNUMBER( MATCH(LEFT(RIGHT(D14,8),4),{"/AK/","/BW/","/DO/","/DK/","/EP/","/HM/","/HK/","/IN/","/KI/","/AR/","/KL/","/KM/","/KP/","/DN/","/LN/","/RT/","/TU/","/KU/","/KR/","/MI/","/MK/","/OT/","/LP/","/DL/","/LT/","/PM/","/PW/","/PG/","/PP/","/MU/","/IL/","/PR/","/PI/","/PL/","/PK/","/PB/","/SP/","/SE/","/TI/","/LL/","/DT/","/LK/","/WS/","/TP/","/KS/","/SR/","/SK/","PJ"},0) ), ISNUMBER(SEARCH("40",D14) ) ),LEFT(RIGHT(D14,7),2), "-" ) -> - | F14: 2 Januari 2025 | G14: Permohonan Partisipasi Dan Dukungan Pada Eurasia Higher Education Summit, 8 – 10 April 2025, Istanbul Congress Center & Lutfi Kirdar & Istanbul Hilton Taksim, Istanbul, Turkey. | H14: Rektor | I14: Sinergi Langsung | J14: 6 Januari 2025 14.00 | M14: SINERGI | N14: EMAIL | P14: =A14&"/UN40.SU. /2025" -> 0010/UN40.SU. /2025
A15: 0011 | B15: 6 Januari 2025 | C15: Universitas Singaperbangsa Karawang | D15: 6932/UN64/KP/2024 | E15: =IF( AND( ISNUMBER( MATCH(LEFT(RIGHT(D15,8),4),{"/AK/","/BW/","/DO/","/DK/","/EP/","/HM/","/HK/","/IN/","/KI/","/AR/","/KL/","/KM/","/KP/","/DN/","/LN/","/RT/","/TU/","/KU/","/KR/","/MI/","/MK/","/OT/","/LP/","/DL/","/LT/","/PM/","/PW/","/PG/","/PP/","/MU/","/IL/","/PR/","/PI/","/PL/","/PK/","/PB/","/SP/","/SE/","/TI/","/LL/","/DT/","/LK/","/WS/","/TP/","/KS/","/SR/","/SK/","PJ"},0) ), ISNUMBER(SEARCH("40",D15) ) ),LEFT(RIGHT(D15,7),2), "-" ) -> - | F15: 27 Desember 2024 | G15: Perpanjangan Ke Satu Seleksi Terbuka Jabatan Pimpinan Tinggi Pratama di Lingkungan Universitas Singaperbangsa Karawang | H15: Rektor | I15: Sinergi Langsung | J15: 6 Januari 2025 14.00 | M15: SINERGI | N15: EMAIL | P15: =A15&"/UN40.SU. /2025" -> 0011/UN40.SU. /2025
A16: 0012 | B16: 6 Januari 2025 | C16: Lembaga Bimbingan Belajar Sony Sugema College Karawang | D16: 005/SSCKRW/I/2025 | E16: =IF( AND( ISNUMBER( MATCH(LEFT(RIGHT(D16,8),4),{"/AK/","/BW/","/DO/","/DK/","/EP/","/HM/","/HK/","/IN/","/KI/","/AR/","/KL/","/KM/","/KP/","/DN/","/LN/","/RT/","/TU/","/KU/","/KR/","/MI/","/MK/","/OT/","/LP/","/DL/","/LT/","/PM/","/PW/","/PG/","/PP/","/MU/","/IL/","/PR/","/PI/","/PL/","/PK/","/PB/","/SP/","/SE/","/TI/","/LL/","/DT/","/LK/","/WS/","/TP/","/KS/","/SR/","/SK/","PJ"},0) ), ISNUMBER(SEARCH("40",D16) ) ),LEFT(RIGHT(D16,7),2), "-" ) -> - | F16: 5 Januari 2025 | G16: Permohonan Izin Kegiatan Kunjungan Kampus UPI Bandung. Tanggal 25 Januari 2025 | H16: WR KSPSDM | I16: Sinergi Langsung | J16: 6 Januari 2025 14.00 | M16: SINERGI | N16: EMAIL | P16: =A16&"/UN40.SU. /2025" -> 0012/UN40.SU. /2025
A17: 0013 | B17: 6 Januari 2025 | C17: Universitas Pendidikan Ganesha (UNDIKSHA) | D17: 011/Pan-Pel/Dies-32/2025 | E17: =IF( AND( ISNUMBER( MATCH(LEFT(RIGHT(D17,8),4),{"/AK/","/BW/","/DO/","/DK/","/EP/","/HM/","/HK/","/IN/","/KI/","/AR/","/KL/","/KM/","/KP/","/DN/","/LN/","/RT/","/TU/","/KU/","/KR/","/MI/","/MK/","/OT/","/LP/","/DL/","/LT/","/PM/","/PW/","/PG/","/PP/","/MU/","/IL/","/PR/","/PI/","/PL/","/PK/","/PB/","/SP/","/SE/","/TI/","/LL/","/DT/","/LK/","/WS/","/TP/","/KS/","/SR/","/SK/","PJ"},0) ), ISNUMBER(SEARCH("40",D17) ) ),LEFT(RIGHT(D17,7),2), "-" ) -> - | F17: 2 Januari 2025 | G17: Undangan Harmoni Ekshibisi Tenis Meja dan Tenis Lapangan. Tanggal 11-12 Januari 2025 | H17: Rektor | I17: Sinergi Langsung | J17: 6 Januari 2025 14.00 | M17: SINERGI | N17: EMAIL | P17: =A17&"/UN40.SU. /2025" -> 0013/UN40.SU. /2025
A18: 0014 | B18: 6 Januari 2025 | C18: Universitas Indonesia | D18: S-62/UN2.R/HMI.05.02/2025 | E18: =IF( AND( ISNUMBER( MATCH(LEFT(RIGHT(D18,8),4),{"/AK/","/BW/","/DO/","/DK/","/EP/","/HM/","/HK/","/IN/","/KI/","/AR/","/KL/","/KM/","/KP/","/DN/","/LN/","/RT/","/TU/","/KU/","/KR/","/MI/","/MK/","/OT/","/LP/","/DL/","/LT/","/PM/","/PW/","/PG/","/PP/","/MU/","/IL/","/PR/","/PI/","/PL/","/PK/","/PB/","/SP/","/SE/","/TI/","/LL/","/DT/","/LK/","/WS/","/TP/","/KS/","/SR/","/SK/","PJ"},0) ), ISNUMBER(SEARCH("40",D18) ) ),LEFT(RIGHT(D18,7),2), "-" ) -> - | F18: 3 Januari 2025 | G18: Permohonan Memberikan Video Ucapan Selamat Dies Natalis Ke-75 Tahun Universitas Indonesia | H18: Rektor | I18: Sinergi Langsung | J18: 6 Januari 2025 14.00 | M18: SINERGI | N18: WA | O18: Bu Zaki | P18: =A18&"/UN40.SU. /2025" -> 0014/UN40.SU. /2025
A19: 0015 | B19: 6 Januari 2025 | C19: Fakultas Kedokteran Unpad | D19: 153/UN6.C/TU.00/2025 | E19: =IF( AND( ISNUMBER( MATCH(LEFT(RIGHT(D19,8),4),{"/AK/","/BW/","/DO/","/DK/","/EP/","/HM/","/HK/","/IN/","/KI/","/AR/","/KL/","/KM/","/KP/","/DN/","/LN/","/RT/","/TU/","/KU/","/KR/","/MI/","/MK/","/OT/","/LP/","/DL/","/LT/","/PM/","/PW/","/PG/","/PP/","/MU/","/IL/","/PR/","/PI/","/PL/","/PK/","/PB/","/SP/","/SE/","/TI/","/LL/","/DT/","/LK/","/WS/","/TP/","/KS/","/SR/","/SK/","PJ"},0) ), ISNUMBER(SEARCH("40",D19) ) ),LEFT(RIGHT(D19,7),2), "-" ) -> - | F19: 3 Januari 2025 | G19: Permohonan Rencana Kegiatan dan Anggaran Kerja Sama | H19: Rektor | I19: Sinergi Langsung | J19: 6 Januari 2025 14.00 | L19: TEMBUSAN | M19: SINERGI | N19: EMAIL | P19: =A19&"/UN40.SU. /2025" -> 0015/UN40.SU. /2025
A20: 0016 | B20: 6 Januari 2025 | C20: MKKS SMK Swasta Kab Malang | D20: 052/MKKS-SMKS.KAB-MLG/D-18/I/2025 | E20: =IF( AND( ISNUMBER( MATCH(LEFT(RIGHT(D20,8),4),{"/AK/","/BW/","/DO/","/DK/","/EP/","/HM/","/HK/","/IN/","/KI/","/AR/","/KL/","/KM/","/KP/","/DN/","/LN/","/RT/","/TU/","/KU/","/KR/","/MI/","/MK/","/OT/","/LP/","/DL/","/LT/","/PM/","/PW/","/PG/","/PP/","/MU/","/IL/","/PR/","/PI/","/PL/","/PK/","/PB/","/SP/","/SE/","/TI/","/LL/","/DT/","/LK/","/WS/","/TP/","/KS/","/SR/","/SK/","PJ"},0) ), ISNUMBER(SEARCH("40",D20) ) ),LEFT(RIGHT(D20,7),2), "-" ) -> - | F20: 3 Januari 2025 | G20: Permohonan kunjungan MKKS SMK Swasta Kab Malang Jatim. Tanggal 22 Januari 2025 | H20: Rektor | I20: Sinergi Langsung | J20: 6 Januari 2025 14.00 | M20: SINERGI | N20: EMAIL | P20: =A20&"/UN40.SU. /2025" -> 0016/UN40.SU. /2025
A21: 0017 | B21: 7 Januari 2025 | C21: Kepala Badan Kebijakan Pembangunan Kesehatan Kemenkes | D21: BP.01.01/H/7033/2024 | E21: =IF( AND( ISNUMBER( MATCH(LEFT(RIGHT(D21,8),4),{"/AK/","/BW/","/DO/","/DK/","/EP/","/HM/","/HK/","/IN/","/KI/","/AR/","/KL/","/KM/","/KP/","/DN/","/LN/","/RT/","/TU/","/KU/","/KR/","/MI/","/MK/","/OT/","/LP/","/DL/","/LT/","/PM/","/PW/","/PG/","/PP/","/MU/","/IL/","/PR/","/PI/","/PL/","/PK/","/PB/","/SP/","/SE/","/TI/","/LL/","/DT/","/LK/","/WS/","/TP/","/KS/","/SR/","/SK/","PJ"},0) ), ISNUMBER(SEARCH("40",D21) ) ),LEFT(RIGHT(D21,7),2), "-" ) -> - | F21: 8 November 2024 | G21: Permohonan Daftar Pakar | H21: Rektor | I21: Sinergi Langsung | J21: 7 Januari 2025 14.00 | M21: SINERGI | N21: WA | O21: Pa Budi | P21: =A21&"/UN40.SU. /2025" -> 0017/UN40.SU. /2025
A22: 0018 | B22: 7 Januari 2025 | C22: Inspektur Jenderal Kemendikbudristek | D22: 0074/G/KP.04.03/2025 | E22: =IF( AND( ISNUMBER( MATCH(LEFT(RIGHT(D22,8),4),{"/AK/","/BW/","/DO/","/DK/","/EP/","/HM/","/HK/","/IN/","/KI/","/AR/","/KL/","/KM/","/KP/","/DN/","/LN/","/RT/","/TU/","/KU/","/KR/","/MI/","/MK/","/OT/","/LP/","/DL/","/LT/","/PM/","/PW/","/PG/","/PP/","/MU/","/IL/","/PR/","/PI/","/PL/","/PK/","/PB/","/SP/","/SE/","/TI/","/LL/","/DT/","/LK/","/WS/","/TP/","/KS/","/SR/","/SK/","PJ"},0) ), ISNUMBER(SEARCH("40",D22) ) ),LEFT(RIGHT(D22,7),2), "-" ) -> - | F22: 6 Januari 2025 | G22: Kewajiban Penyampaian LHKPN Tahun 2024 | H22: Rektor | I22: Sinergi Langsung | J22: 7 Januari 2025 15.30 | M22: SINERGI | N22: SINDE | P22: =A22&"/UN40.SU. /2025" -> 0018/UN40.SU. /2025
A23: 0019 | B23: 7 Januari 2025 | C23: Sekretaris Jenderal Kemendikbudristek | D23: 0274/A.A2/KU.03.02/2025 | E23: =IF( AND( ISNUMBER( MATCH(LEFT(RIGHT(D23,8),4),{"/AK/","/BW/","/DO/","/DK/","/EP/","/HM/","/HK/","/IN/","/KI/","/AR/","/KL/","/KM/","/KP/","/DN/","/LN/","/RT/","/TU/","/KU/","/KR/","/MI/","/MK/","/OT/","/LP/","/DL/","/LT/","/PM/","/PW/","/PG/","/PP/","/MU/","/IL/","/PR/","/PI/","/PL/","/PK/","/PB/","/SP/","/SE/","/TI/","/LL/","/DT/","/LK/","/WS/","/TP/","/KS/","/SR/","/SK/","PJ"},0) ), ISNUMBER(SEARCH("40",D23) ) ),LEFT(RIGHT(D23,7),2), "-" ) -> - | F23: 7 Januari 2025 | G23: Langkah-langkah dan Kebijakan Penyusunan Laporan Keuangan Kemendikbudristek Tahun 2024 | H23: Rektor | I23: Sinergi Langsung | J23: 7 Januari 2025 15.30 | M23: SINERGI | N23: SINDE | P23: =A23&"/UN40.SU. /2025" -> 0019/UN40.SU. /2025
A24: 0020 | B24: 7 Januari 2025 | C24: Kepala Biro Manajemen Barang Milik Negara dan Pengadaan BRIN | D24: B-6921/II.2.4/PL.02.01/12/2024 | E24: =IF( AND( ISNUMBER( MATCH(LEFT(RIGHT(D24,8),4),{"/AK/","/BW/","/DO/","/DK/","/EP/","/HM/","/HK/","/IN/","/KI/","/AR/","/KL/","/KM/","/KP/","/DN/","/LN/","/RT/","/TU/","/KU/","/KR/","/MI/","/MK/","/OT/","/LP/","/DL/","/LT/","/PM/","/PW/","/PG/","/PP/","/MU/","/IL/","/PR/","/PI/","/PL/","/PK/","/PB/","/SP/","/SE/","/TI/","/LL/","/DT/","/LK/","/WS/","/TP/","/KS/","/SR/","/SK/","PJ"},0) ), ISNUMBER(SEARCH("40",D24) ) ),LEFT(RIGHT(D24,7),2), "-" ) -> - | F24: 4 Desember 2024 | G24: Pemeriksaan Fisik BMN dalam rangka Pemindahtanganan dengan Cara Hibah | H24: Rektor | I24: Kinanti | J24: 9 Januari 2025 10.00 | M24: SINERGI | P24: =A24&"/UN40.SU. /2025" -> 0020/UN40.SU. /2025
A25: 0021 | B25: 7 Januari 2025 | C25: PT. Antar Dua Niaga | D25: 27/AND-P.BCE/XI/2024 | E25: =IF( AND( ISNUMBER( MATCH(LEFT(RIGHT(D25,8),4),{"/AK/","/BW/","/DO/","/DK/","/EP/","/HM/","/HK/","/IN/","/KI/","/AR/","/KL/","/KM/","/KP/","/DN/","/LN/","/RT/","/TU/","/KU/","/KR/","/MI/","/MK/","/OT/","/LP/","/DL/","/LT/","/PM/","/PW/","/PG/","/PP/","/MU/","/IL/","/PR/","/PI/","/PL/","/PK/","/PB/","/SP/","/SE/","/TI/","/LL/","/DT/","/LK/","/WS/","/TP/","/KS/","/SR/","/SK/","PJ"},0) ), ISNUMBER(SEARCH("40",D25) ) ),LEFT(RIGHT(D25,7),2), "-" ) -> - | F25: 29 November 2024 | G25: Pameran Perguruan Tinggi Bekasi Campus Expo 2025 | H25: Rektor | I25: Kinanti | J25: 9 Januari 2025 10.00 | M25: SINERGI | P25: =A25&"/UN40.SU. /2025" -> 0021/UN40.SU. /2025
A26: 0022 | B26: 7 Januari 2025 | C26: Hima Pendidikan IPS | D26: 137/SPM/B/B6/BEM-HIMAPIPS/XI/2024 | E26: =IF( AND( ISNUMBER( MATCH(LEFT(RIGHT(D26,8),4),{"/AK/","/BW/","/DO/","/DK/","/EP/","/HM/","/HK/","/IN/","/KI/","/AR/","/KL/","/KM/","/KP/","/DN/","/LN/","/RT/","/TU/","/KU/","/KR/","/MI/","/MK/","/OT/","/LP/","/DL/","/LT/","/PM/","/PW/","/PG/","/PP/","/MU/","/IL/","/PR/","/PI/","/PL/","/PK/","/PB/","/SP/","/SE/","/TI/","/LL/","/DT/","/LK/","/WS/","/TP/","/KS/","/SR/","/SK/","PJ"},0) ), ISNUMBER(SEARCH("40",D26) ) ),LEFT(RIGHT(D26,7),2), "-" ) -> - | F26: 26 November 2024 | G26: Permohonan Bantuan Dana Pengabdian Pada Masyarakat (P2M) | H26: WR PK | I26: Tito | J26: 9 Januari 2025 10.00 | M26: SINERGI | P26: =A26&"/UN40.SU. /2025" -> 0022/UN40.SU. /2025
A27: 0023 | B27: 8 Januari 2025 | C27: Nushritina Bayani | D27: - | E27: =IF( AND( ISNUMBER( MATCH(LEFT(RIGHT(D27,8),4),{"/AK/","/BW/","/DO/","/DK/","/EP/","/HM/","/HK/","/IN/","/KI/","/AR/","/KL/","/KM/","/KP/","/DN/","/LN/","/RT/","/TU/","/KU/","/KR/","/MI/","/MK/","/OT/","/LP/","/DL/","/LT/","/PM/","/PW/","/PG/","/PP/","/MU/","/IL/","/PR/","/PI/","/PL/","/PK/","/PB/","/SP/","/SE/","/TI/","/LL/","/DT/","/LK/","/WS/","/TP/","/KS/","/SR/","/SK/","PJ"},0) ), ISNUMBER(SEARCH("40",D27) ) ),LEFT(RIGHT(D27,7),2), "-" ) -> - | F27: 8 Januari 2025 | G27: Permohonan Bantuan Dana Kegiatan Lomba (Final Lomba Essay Nasional Mandalika Essay Competition 6 "MEC 6" | H27: WR PK | I27: Tito | J27: 9 Januari 2025 10.00 | M27: SINERGI | P27: =A27&"/UN40.SU. /2025" -> 0023/UN40.SU. /2025
A28: 0024 | B28: 8 Januari 2025 | C28: UKM Keluarga Mahasiswa Katolik (KMK) | D28: 140/B/SPm/Pan.NAT/KMKUPI/I/2025 | E28: =IF( AND( ISNUMBER( MATCH(LEFT(RIGHT(D28,8),4),{"/AK/","/BW/","/DO/","/DK/","/EP/","/HM/","/HK/","/IN/","/KI/","/AR/","/KL/","/KM/","/KP/","/DN/","/LN/","/RT/","/TU/","/KU/","/KR/","/MI/","/MK/","/OT/","/LP/","/DL/","/LT/","/PM/","/PW/","/PG/","/PP/","/MU/","/IL/","/PR/","/PI/","/PL/","/PK/","/PB/","/SP/","/SE/","/TI/","/LL/","/DT/","/LK/","/WS/","/TP/","/KS/","/SR/","/SK/","PJ"},0) ), ISNUMBER(SEARCH("40",D28) ) ),LEFT(RIGHT(D28,7),2), "-" ) -> - | F28: 7 Januari 2025 | G28: Permohonan Peminjaman Tempat (Perayaan Natal). Tanggal 17-18 Januari 2025 | H28: WR KSPSDM | I28: Firman | J28: 9 Januari 2025 10.00 | M28: SINERGI | P28: =A28&"/UN40.SU. /2025" -> 0024/UN40.SU. /2025
A29: 0025 | B29: 8 Januari 2025 | C29: Hima Pendidikan Seni Musik FPSD | D29: 001/SPp/DIV-Kegiatan/HIMAMUSIK/I/2025 | E29: =IF( AND( ISNUMBER( MATCH(LEFT(RIGHT(D29,8),4),{"/AK/","/BW/","/DO/","/DK/","/EP/","/HM/","/HK/","/IN/","/KI/","/AR/","/KL/","/KM/","/KP/","/DN/","/LN/","/RT/","/TU/","/KU/","/KR/","/MI/","/MK/","/OT/","/LP/","/DL/","/LT/","/PM/","/PW/","/PG/","/PP/","/MU/","/IL/","/PR/","/PI/","/PL/","/PK/","/PB/","/SP/","/SE/","/TI/","/LL/","/DT/","/LK/","/WS/","/TP/","/KS/","/SR/","/SK/","PJ"},0) ), ISNUMBER(SEARCH("40",D29) ) ),LEFT(RIGHT(D29,7),2), "-" ) -> - | F29: 7 Januari 2025 | G29: Permohonan Peminjaman Tempat Amphiteater | H29: WR KSPSDM | I29: Firman | J29: 9 Januari 2025 10.00 | M29: SINERGI | P29: =A29&"/UN40.SU. /2025" -> 0025/UN40.SU. /2025
A30: 0026 | B30: 8 Januari 2025 | C30: SMA Negeri 1 Cikarang Pusat | D30: 421.3/134/SMAN.1CP/Cadisdik Wil.III/2024 | E30: =IF( AND( ISNUMBER( MATCH(LEFT(RIGHT(D30,8),4),{"/AK/","/BW/","/DO/","/DK/","/EP/","/HM/","/HK/","/IN/","/KI/","/AR/","/KL/","/KM/","/KP/","/DN/","/LN/","/RT/","/TU/","/KU/","/KR/","/MI/","/MK/","/OT/","/LP/","/DL/","/LT/","/PM/","/PW/","/PG/","/PP/","/MU/","/IL/","/PR/","/PI/","/PL/","/PK/","/PB/","/SP/","/SE/","/TI/","/LL/","/DT/","/LK/","/WS/","/TP/","/KS/","/SR/","/SK/","PJ"},0) ), ISNUMBER(SEARCH("40",D30) ) ),LEFT(RIGHT(D30,7),2), "-" ) -> - | F30: 6 Januari 2025 | G30: Revisi Permohonan Izin Kunjungan Universitas. Menjadi Tanggal 21 Mei 2025 | H30: Rektor | I30: Sinergi Langsung | J30: 8 Januari 2025 15.00 | M30: SINERGI | N30: EMAIL | P30: =A30&"/UN40.SU. /2025" -> 0026/UN40.SU. /2025
A31: 0027 | B31: 8 Januari 2025 | C31: PT INTI (Persero) | D31: 18/PM.01.02/020203/2025 | E31: =IF( AND( ISNUMBER( MATCH(LEFT(RIGHT(D31,8),4),{"/AK/","/BW/","/DO/","/DK/","/EP/","/HM/","/HK/","/IN/","/KI/","/AR/","/KL/","/KM/","/KP/","/DN/","/LN/","/RT/","/TU/","/KU/","/KR/","/MI/","/MK/","/OT/","/LP/","/DL/","/LT/","/PM/","/PW/","/PG/","/PP/","/MU/","/IL/","/PR/","/PI/","/PL/","/PK/","/PB/","/SP/","/SE/","/TI/","/LL/","/DT/","/LK/","/WS/","/TP/","/KS/","/SR/","/SK/","PJ"},0) ), ISNUMBER(SEARCH("40",D31) ) ),LEFT(RIGHT(D31,7),2), "-" ) -> - | F31: 7 Januari 2025 | G31: Permohonan Audiensi Pengenalan Produk dan Solusi INTI | H31: Rektor | I31: Sinergi Langsung | J31: 8 Januari 2025 15.00 | M31: SINERGI | N31: EMAIL | P31: =A31&"/UN40.SU. /2025" -> 0027/UN40.SU. /2025
A32: 0028 | B32: 8 Januari 2025 | C32: Global University Network | D32: D/72/2266 | E32: =IF( AND( ISNUMBER( MATCH(LEFT(RIGHT(D32,8),4),{"/AK/","/BW/","/DO/","/DK/","/EP/","/HM/","/HK/","/IN/","/KI/","/AR/","/KL/","/KM/","/KP/","/DN/","/LN/","/RT/","/TU/","/KU/","/KR/","/MI/","/MK/","/OT/","/LP/","/DL/","/LT/","/PM/","/PW/","/PG/","/PP/","/MU/","/IL/","/PR/","/PI/","/PL/","/PK/","/PB/","/SP/","/SE/","/TI/","/LL/","/DT/","/LK/","/WS/","/TP/","/KS/","/SR/","/SK/","PJ"},0) ), ISNUMBER(SEARCH("40",D32) ) ),LEFT(RIGHT(D32,7),2), "-" ) -> - | F32: 5 Desember 2024 | G32: Invitation to Participate in a Premier Education Exhibition & Event International Universities General Assembly - 4-5 Feb | H32: Rektor | I32: Sinergi Langsung | J32: 8 Januari 2025 15.00 | M32: SINERGI | N32: EMAIL | P32: =A32&"/UN40.SU. /2025" -> 0028/UN40.SU. /2025
A33: 0029 | B33: 9 Januari 2025 | C33: SMA Negeri 1 Parongpong | D33: - | E33: =IF( AND( ISNUMBER( MATCH(LEFT(RIGHT(D33,8),4),{"/AK/","/BW/","/DO/","/DK/","/EP/","/HM/","/HK/","/IN/","/KI/","/AR/","/KL/","/KM/","/KP/","/DN/","/LN/","/RT/","/TU/","/KU/","/KR/","/MI/","/MK/","/OT/","/LP/","/DL/","/LT/","/PM/","/PW/","/PG/","/PP/","/MU/","/IL/","/PR/","/PI/","/PL/","/PK/","/PB/","/SP/","/SE/","/TI/","/LL/","/DT/","/LK/","/WS/","/TP/","/KS/","/SR/","/SK/","PJ"},0) ), ISNUMBER(SEARCH("40",D33) ) ),LEFT(RIGHT(D33,7),2), "-" ) -> - | F33: 9 Januari 2025 | G33: Permohonan Izin Pemotretan Yearbook SMAN 1 Parongpong | H33: WR KSPSDM | I33: Firman | J33: 10 Januari 2025 10.00 | M33: SINERGI | P33: =A33&"/UN40.SU. /2025" -> 0029/UN40.SU. /2025
A34: 0030 | B34: 9 Januari 2025 | C34: Madrasah Aliyah Negeri 3 Jakarta Pusat | D34: B-014/MA.09.3/PP.00.6/1/2025 | E34: =IF( AND( ISNUMBER( MATCH(LEFT(RIGHT(D34,8),4),{"/AK/","/BW/","/DO/","/DK/","/EP/","/HM/","/HK/","/IN/","/KI/","/AR/","/KL/","/KM/","/KP/","/DN/","/LN/","/RT/","/TU/","/KU/","/KR/","/MI/","/MK/","/OT/","/LP/","/DL/","/LT/","/PM/","/PW/","/PG/","/PP/","/MU/","/IL/","/PR/","/PI/","/PL/","/PK/","/PB/","/SP/","/SE/","/TI/","/LL/","/DT/","/LK/","/WS/","/TP/","/KS/","/SR/","/SK/","PJ"},0) ), ISNUMBER(SEARCH("40",D34) ) ),LEFT(RIGHT(D34,7),2), "-" ) -> - | F34: 7 Januari 2025 | G34: Permohonan Kunjungan Riset Study Lapangan dan Goes To Campus 2025. Tanggal 17 April 2025 | H34: Rektor | I34: Kinanti | J34: 10 Januari 2025 10.00 | M34: SINERGI | P34: =A34&"/UN40.SU. /2025" -> 0030/UN40.SU. /2025
A35: 0031 | B35: 9 Januari 2025 | C35: SMA MTA Surakarta | D35: 421.4/463 | E35: =IF( AND( ISNUMBER( MATCH(LEFT(RIGHT(D35,8),4),{"/AK/","/BW/","/DO/","/DK/","/EP/","/HM/","/HK/","/IN/","/KI/","/AR/","/KL/","/KM/","/KP/","/DN/","/LN/","/RT/","/TU/","/KU/","/KR/","/MI/","/MK/","/OT/","/LP/","/DL/","/LT/","/PM/","/PW/","/PG/","/PP/","/MU/","/IL/","/PR/","/PI/","/PL/","/PK/","/PB/","/SP/","/SE/","/TI/","/LL/","/DT/","/LK/","/WS/","/TP/","/KS/","/SR/","/SK/","PJ"},0) ), ISNUMBER(SEARCH("40",D35) ) ),LEFT(RIGHT(D35,7),2), "-" ) -> - | F35: 16 Desember 2024 | G35: Permohonan Partisipasi SMA MTA SKA EDU EXPO 2025. Tanggal 11 Januari 2025 | H35: Rektor | I35: Kinanti | J35: 10 Januari 2025 10.00 | M35: SINERGI | P35: =A35&"/UN40.SU. /2025" -> 0031/UN40.SU. /2025
A36: 0032 | B36: 9 Januari 2025 | C36: Pusat Studi Transportasi dan Logistik (Pustral) Universitas Gadjah Mada | D36: 23/UN1/PUSTRAL/PT/2025 | E36: =IF( AND( ISNUMBER( MATCH(LEFT(RIGHT(D36,8),4),{"/AK/","/BW/","/DO/","/DK/","/EP/","/HM/","/HK/","/IN/","/KI/","/AR/","/KL/","/KM/","/KP/","/DN/","/LN/","/RT/","/TU/","/KU/","/KR/","/MI/","/MK/","/OT/","/LP/","/DL/","/LT/","/PM/","/PW/","/PG/","/PP/","/MU/","/IL/","/PR/","/PI/","/PL/","/PK/","/PB/","/SP/","/SE/","/TI/","/LL/","/DT/","/LK/","/WS/","/TP/","/KS/","/SR/","/SK/","PJ"},0) ), ISNUMBER(SEARCH("40",D36) ) ),LEFT(RIGHT(D36,7),2), "-" ) -> - | F36: 8 Januari 2025 | G36: Undangan Peserta Diskusi Akademis dengan Tema “Rilis Survei Nasional Persepsi Publik Terhadap Penyelenggaraan Transportasi Pada Masa Libur Natal 2024 & Tahun Baru 2025”. Tanggal 10 Januari 2025 | H36: Rektor | I36: Sinergi Langsung | J36: 9 Januari 2025 13.00 | M36: SINERGI | N36: EMAIL | P36: =A36&"/UN40.SU. /2025" -> 0032/UN40.SU. /2025
A37: 0033 | B37: 9 Januari 2025 | C37: Akademi Sages | D37: 070/SD-A.SAGES/G/I/2025 | E37: =IF( AND( ISNUMBER( MATCH(LEFT(RIGHT(D37,8),4),{"/AK/","/BW/","/DO/","/DK/","/EP/","/HM/","/HK/","/IN/","/KI/","/AR/","/KL/","/KM/","/KP/","/DN/","/LN/","/RT/","/TU/","/KU/","/KR/","/MI/","/MK/","/OT/","/LP/","/DL/","/LT/","/PM/","/PW/","/PG/","/PP/","/MU/","/IL/","/PR/","/PI/","/PL/","/PK/","/PB/","/SP/","/SE/","/TI/","/LL/","/DT/","/LK/","/WS/","/TP/","/KS/","/SR/","/SK/","PJ"},0) ), ISNUMBER(SEARCH("40",D37) ) ),LEFT(RIGHT(D37,7),2), "-" ) -> - | F37: 8 Januari 2025 | G37: Permohonan Ijin Kunjungan dan Kerjasama dengan Prodi Tata Boga Universitas Pendidikan Indonesia. Tanggal 13 Januari 2025 | H37: Rektor | I37: Sinergi Langsung | J37: 9 Januari 2025 13.00 | M37: SINERGI | N37: EMAIL | P37: =A37&"/UN40.SU. /2025" -> 0033/UN40.SU. /2025
A38: 0034 | B38: 9 Januari 2025 | C38: Faculty of Quranic and Sunnah Studies Universiti Sains Islam | D38: - | E38: =IF( AND( ISNUMBER( MATCH(LEFT(RIGHT(D38,8),4),{"/AK/","/BW/","/DO/","/DK/","/EP/","/HM/","/HK/","/IN/","/KI/","/AR/","/KL/","/KM/","/KP/","/DN/","/LN/","/RT/","/TU/","/KU/","/KR/","/MI/","/MK/","/OT/","/LP/","/DL/","/LT/","/PM/","/PW/","/PG/","/PP/","/MU/","/IL/","/PR/","/PI/","/PL/","/PK/","/PB/","/SP/","/SE/","/TI/","/LL/","/DT/","/LK/","/WS/","/TP/","/KS/","/SR/","/SK/","PJ"},0) ), ISNUMBER(SEARCH("40",D38) ) ),LEFT(RIGHT(D38,7),2), "-" ) -> - | F38: 9 Januari 2025 | G38: Request for a visit to the the campus of universitas pendidikan indonesia, bandung. 24th February 2024 | H38: Rektor | I38: Sinergi Langsung | J38: 9 Januari 2025 13.00 | M38: SINERGI | N38: EMAIL | P38: =A38&"/UN40.SU. /2025" -> 0034/UN40.SU. /2025
A39: 0035 | B39: 10 Januari 2025 | C39: KEMA FPMIPA | D39: 009/B/SPD/B10/Pan.P2m/Bem.KEMA.FPMIPA.UPI.I/2025 | E39: =IF( AND( ISNUMBER( MATCH(LEFT(RIGHT(D39,8),4),{"/AK/","/BW/","/DO/","/DK/","/EP/","/HM/","/HK/","/IN/","/KI/","/AR/","/KL/","/KM/","/KP/","/DN/","/LN/","/RT/","/TU/","/KU/","/KR/","/MI/","/MK/","/OT/","/LP/","/DL/","/LT/","/PM/","/PW/","/PG/","/PP/","/MU/","/IL/","/PR/","/PI/","/PL/","/PK/","/PB/","/SP/","/SE/","/TI/","/LL/","/DT/","/LK/","/WS/","/TP/","/KS/","/SR/","/SK/","PJ"},0) ), ISNUMBER(SEARCH("40",D39) ) ),LEFT(RIGHT(D39,7),2), "-" ) -> - | F39: 7 Januari 2025 | G39: Permohonan Bantuan Dana Pengabdian Pada Masyarakat (P2M) | H39: WR PK | I39: Tito | J39: 13 Januari 2025 10.00 | M39: SINERGI | P39: =A39&"/UN40.SU. /2025" -> 0035/UN40.SU. /2025
A40: 0036 | B40: 10 Januari 2025 | C40: Lingkar Indonesia Pintar (Lintar UPI) Periode 2024-2025 | D40: 011/SPH-C/Pan-MK/Lintar.UPI/I/2025 | E40: =IF( AND( ISNUMBER( MATCH(LEFT(RIGHT(D40,8),4),{"/AK/","/BW/","/DO/","/DK/","/EP/","/HM/","/HK/","/IN/","/KI/","/AR/","/KL/","/KM/","/KP/","/DN/","/LN/","/RT/","/TU/","/KU/","/KR/","/MI/","/MK/","/OT/","/LP/","/DL/","/LT/","/PM/","/PW/","/PG/","/PP/","/MU/","/IL/","/PR/","/PI/","/PL/","/PK/","/PB/","/SP/","/SE/","/TI/","/LL/","/DT/","/LK/","/WS/","/TP/","/KS/","/SR/","/SK/","PJ"},0) ), ISNUMBER(SEARCH("40",D40) ) ),LEFT(RIGHT(D40,7),2), "-" ) -> - | F40: 2 Januari 2025 | G40: Permohonan Bantuan Dana KIP-Kuliah Ngabdi Ka Lembur (Makin Kalem) | H40: WR PK | I40: Tito | J40: 13 Januari 2025 10.00 | M40: SINERGI | P40: =A40&"/UN40.SU. /2025" -> 0036/UN40.SU. /2025
...

Sheet Statistic
A1: GRAFIK SURAT MASUK UNIVERSITAS PENDIDIKAN INDONESIA TAHUN 2025 | P1: REKAP SURAT MASUK UNIVERSITAS PENDIDIKAN INDONESIA TAHUN 2025
A3: No | B3: Tanggal | C3: Jumlah | D3: Halaman | P3: NO | Q3: TANGGAL | R3: JUMLAH | S3: Halaman
A4: 1 | B4: 2 Januari 2025 | C4: =COUNTIF('Surat Masuk'!$B$5:$B$10026,Statistic!$B4) -> 2 | D4: 0 | P4: 1 | Q4: Januari 2025 | R4: =$C$23 -> 136 | S4: =$D$23 -> 26
A5: 2 | B5: 3 Januari 2025 | C5: =COUNTIF('Surat Masuk'!$B$5:$B$10026,Statistic!$B5) -> 1 | D5: 0 | P5: 2 | Q5: Februari 2025 | R5: =$C$46 -> 101 | S5: =$D$46 -> 23
A6: 3 | B6: 6 Januari 2025 | C6: =COUNTIF('Surat Masuk'!$B$5:$B$10026,Statistic!$B6) -> 13 | D6: 3 | P6: 3 | Q6: Maret 2025 | R6: =$C$68 -> 97 | S6: =$D$68 -> 19
A7: 4 | B7: 7 Januari 2025 | C7: =COUNTIF('Surat Masuk'!$B$5:$B$10026,Statistic!$B7) -> 6 | D7: 1 | P7: 4 | Q7: April 2025 | R7: =$C$87 -> 118 | S7: =$D$87 -> 27
A8: 5 | B8: 8 Januari 2025 | C8: =COUNTIF('Surat Masuk'!$B$5:$B$10026,Statistic!$B8) -> 6 | D8: 1 | P8: 5 | Q8: Mei 2025 | R8: =$C$107 -> 146 | S8: =$D$107 -> 29
A9: 6 | B9: 9 Januari 2025 | C9: =COUNTIF('Surat Masuk'!$B$5:$B$10026,Statistic!$B9) -> 6 | D9: 2 | P9: 6 | Q9: Juni 2021 | R9: =$C$128 -> 161 | S9: =$D$128 -> 34
A10: 7 | B10: 10 Januari 2025 | C10: =COUNTIF('Surat Masuk'!$B$5:$B$10026,Statistic!$B10) -> 11 | D10: 2 | P10: 7 | Q10: Juli 2025 | R10: =$C$154 -> 217 | S10: =$D$154 -> 44
A11: 8 | B11: 13 Januari 2025 | C11: =COUNTIF('Surat Masuk'!$B$5:$B$10026,Statistic!$B11) -> 4 | D11: 1 | P11: 8 | Q11: Agustus 2025 | R11: =$C$177 -> 177 | S11: =$D$177 -> 31
A12: 9 | B12: 14 Januari 2025 | C12: =COUNTIF('Surat Masuk'!$B$5:$B$10026,Statistic!$B12) -> 3 | D12: 2 | P12: 9 | Q12: September 2025 | R12: =$C$201 -> 227 | S12: =$D$201 -> 52
A13: 10 | B13: 15 Januari 2025 | C13: =COUNTIF('Surat Masuk'!$B$5:$B$10026,Statistic!$B13) -> 6 | D13: 1 | P13: 10 | Q13: Oktober 2025 | R13: =$C$227 -> 231 | S13: =$D$227 -> 53
A14: 11 | B14: 16 Januari 2025 | C14: =COUNTIF('Surat Masuk'!$B$5:$B$10026,Statistic!$B14) -> 14 | D14: 1 | P14: 11 | Q14: November 2025 | R14: =$C$250 -> 228 | S14: =$D$250 -> 47
A15: 12 | B15: 17 Januari 2025 | C15: =COUNTIF('Surat Masuk'!$B$5:$B$10026,Statistic!$B15) -> 15 | D15: 2 | P15: 12 | Q15: Desember 2025 | R15: =$C$276 -> 184 | S15: =$D$276 -> 46
A16: 13 | B16: 20 Januari 2025 | C16: =COUNTIF('Surat Masuk'!$B$5:$B$10026,Statistic!$B16) -> 4 | D16: 1 | P16: TOTAL | R16: =SUM(R4:R15) -> 2023 | S16: =SUM(S4:S15) -> 431
A17: 14 | B17: 21 Januari 2025 | C17: =COUNTIF('Surat Masuk'!$B$5:$B$10026,Statistic!$B17) -> 8 | D17: 1
A18: 15 | B18: 22 Januari 2025 | C18: =COUNTIF('Surat Masuk'!$B$5:$B$10026,Statistic!$B18) -> 2 | D18: 2 | Q18: REKAP SURAT (MEDIA) Nopember 2025
A19: 16 | B19: 23 Januari 2025 | C19: =COUNTIF('Surat Masuk'!$B$5:$B$10026,Statistic!$B19) -> 16 | D19: 1 | Q19: SINDE | R19: =COUNTIF('Surat Masuk'!$N$1844:$N$1997,U19) -> 17 | U19: =Q19 -> SINDE
A20: 17 | B20: 24 Januari 2025 | C20: =COUNTIF('Surat Masuk'!$B$5:$B$10026,Statistic!$B20) -> 6 | D20: 2 | Q20: WA | R20: =COUNTIF('Surat Masuk'!$N$1844:$N$1997,U20) -> 17 | U20: ="*"&Q20&"*" -> *WA*
A21: 18 | B21: 30 Januari 2025 | C21: =COUNTIF('Surat Masuk'!$B$5:$B$10026,Statistic!$B21) -> 7 | D21: 1 | Q21: EMAIL | R21: =COUNTIF('Surat Masuk'!$N$1844:$N$1997,U21) -> 40 | U21: =Q21 -> EMAIL
A22: 19 | B22: 31 Januari 2025 | C22: =COUNTIF('Surat Masuk'!$B$5:$B$10026,Statistic!$B22) -> 6 | D22: 2 | Q22: FISIK | R22: =COUNTIF('Surat Masuk'!$N$1844:$N$1997,U22) -> 80 | U22: =""
C23: =SUM(C4:C22) -> 136 | D23: =SUM(D4:D22) -> 26 | R23: =SUM(R19:R22) -> 154
A25: No | B25: Tanggal | C25: Jumlah | D25: Halaman
A26: 1 | B26: 3 Februari 2025 | C26: =COUNTIF('Surat Masuk'!$B$6:$B$7760,Statistic!$B26) -> 2 | D26: 0
A27: 2 | B27: 4 Februari 2025 | C27: =COUNTIF('Surat Masuk'!$B$6:$B$7760,Statistic!$B27) -> 7 | D27: 2
A28: 3 | B28: 5 Februari 2025 | C28: =COUNTIF('Surat Masuk'!$B$6:$B$7760,Statistic!$B28) -> 2 | D28: 0
A29: 4 | B29: 6 Februari 2025 | C29: =COUNTIF('Surat Masuk'!$B$6:$B$7760,Statistic!$B29) -> 4 | D29: 2
A30: 5 | B30: 7 Februari 2025 | C30: =COUNTIF('Surat Masuk'!$B$6:$B$7760,Statistic!$B30) -> 6 | D30: 1
A31: 6 | B31: 10 Februari 2025 | C31: =COUNTIF('Surat Masuk'!$B$6:$B$7760,Statistic!$B31) -> 12 | D31: 2
A32: 7 | B32: 11 Februari 2025 | C32: =COUNTIF('Surat Masuk'!$B$6:$B$7760,Statistic!$B32) -> 4 | D32: 1
A33: 8 | B33: 12 Februari 2025 | C33: =COUNTIF('Surat Masuk'!$B$6:$B$7760,Statistic!$B33) -> 3 | D33: 0
A34: 9 | B34: 13 Februari 2025 | C34: =COUNTIF('Surat Masuk'!$B$6:$B$7760,Statistic!$B34) -> 8 | D34: 1
A35: 10 | B35: 14 Februari 2025 | C35: =COUNTIF('Surat Masuk'!$B$6:$B$7760,Statistic!$B35) -> 3 | D35: 2
A36: 11 | B36: 17 Februari 2025 | C36: =COUNTIF('Surat Masuk'!$B$6:$B$7760,Statistic!$B36) -> 7 | D36: 1
A37: 12 | B37: 18 Februari 2025 | C37: =COUNTIF('Surat Masuk'!$B$6:$B$7760,Statistic!$B37) -> 4 | D37: 2
... A45: 20 | B45: 28 Februari 2025 | C45: =COUNTIF('Surat Masuk'!$B$6:$B$7760,Statistic!$B45) -> 4 | D45: 2
C46: =SUM(C26:C45) -> 101 | D46: =SUM(D26:D45) -> 23
A48: No | B48: Tanggal | C48: Jumlah | D48: Halaman
A49: 1 | B49: 3 Maret 2025 | C49: =COUNTIF('Surat Masuk'!$B$6:$B$7760,Statistic!$B49) -> 2
A50: 2 | B50: 4 Maret 2025 | C50: =COUNTIF('Surat Masuk'!$B$6:$B$7760,Statistic!$B50) -> 7 | D50: 1
...

Sheet Laporan
A1: LAPORAN SURAT MASUK TAHUN 2025
A2: PERIODE Januari - Desember
A4: NO | B4: TUJUAN SURAT | D4: BULAN | P4: TOTAL
D5: Januari | E5: Februari | F5: Maret | G5: April | H5: Mei | I5: Juni | J5: Juli | K5: Agustus | L5: September | M5: Oktober | N5: November | O5: Desember
A6: 1 | B6: Rektor | P6: =SUM(D6:O6) -> 0
A7: 2 | B7: Wakil Rektor Bidang Akademik dan Kemahasiswaan | P7: =SUM(D7:O7) -> 0
A8: 3 | B8: Wakil Rektor Bidang Keuangan, Sumber Daya dan Administrasi Umum | P8: =SUM(D8:O8) -> 0
A9: 4 | B9: Wakil Rektor Bidang Perencanaan, Pengembangan dan Sistem Informasi | P9: =SUM(D9:O9) -> 0
A10: 5 | B10: Wakil Rektor Bidang Riset, Kemitraan dan Usaha | P10: =SUM(D10:O10) -> 0
A11: 6 | B11: Sekretaris Universitas | P11: =SUM(D11:O11) -> 0
A12: 7 | B12: Lain-Lain | P12: =SUM(D12:O12) -> 0
A13: Jumlah | D13: =SUM(D6:D12) -> 0 | E13: =SUM(E6:E12) -> 0 | F13: =SUM(F6:F12) -> 0 | G13: =SUM(G6:G12) -> 0 | H13: =SUM(H6:H12) -> 0 | I13: =SUM(I6:I12) -> 0 | J13: =SUM(J6:J12) -> 0 | K13: =SUM(K6:K12) -> 0 | ... O13: =SUM(O6:O12) -> 0 | P13: =SUM(D13:O13) -> 0
A15: Menyetujui / Mengetahui | N15: Bandung, 1 Januari 2020
A17: Kepala Biro Hukum dan Kesekretariatan | F17: Kabag Kesekretariatan | J17: Kasubag Tata Usaha | N17: Staf Tata Usaha
N21: Zaenal Helmi, A.Md
N22: NIP 198904082015041001

Sheet Format Laporan
A30: Menyetujui / Mengetahui | N30: Bandung,
A32: Kepala Biro Hukum dan Kesekretariatan | F32: Kabag Kesekretariatan | J32: Kasubag Tata Usaha | N32: Staf Tata Usaha
N36: Alfian Hadi
N37: NIPTT 020100119860227101

Sheet LaporanMingguan
A1: DAFTAR SURAT MASUK UNIVERSITAS PENDIDIKAN INDONESIA TAHUN 2025
A2: F1 | B2: F2 | C2: F3 | D2: F4 | E2: F5 | F2: F6 | G2: F7 | H2: F8 | I2: F9 | J2: F10 | K2: F11 | L2: F12 | M2: F13 | N2: F14 | O2: F15 | P2: F16 | Q2: F17 | R2: F18 | S2: F19 | T2: F20 | U2: F21 | V2: HAPUS
A3: NOMOR INDEKS | B3: TANGGAL | C3: PENGIRIM | D3: IDENTITAS SURAT | G3: PERIHAL SURAT | H3: DITUJUKAN KEPADA | I3: PENERIMA | L3: KETERANGAN | M3: MEDIA | N3: SUMBER | P3: Agenda | Q3: INSTRUKSI | R3: FOLLOW UP | S3: TERUSAN SURAT | T3: TANGGAL TERIMA | U3: PENERIMA BHK | V3: HAPUS
D4: NOMOR | E4: KODE | F4: TANGGAL | I4: NAMA | J4: TANGGAL | K4: PARAF | V4: HAPUS
A5: 0139
A6: 0140
A7: 0141
A8: 0142
A9: 0143
A10: 0156
A11: 0157

Sheet Cap Rahasia
B1: RAHASIA | D1: RAHASIA | F1: RAHASIA | H1: RAHASIA
B3: RAHASIA | D3: RAHASIA | F3: RAHASIA | H3: RAHASIA
B5: RAHASIA | D5: RAHASIA | F5: RAHASIA | H5: RAHASIA
B7: RAHASIA | D7: RAHASIA | F7: RAHASIA | H7: RAHASIA
B9: RAHASIA | D9: RAHASIA | F9: RAHASIA | H9: RAHASIA
B11: RAHASIA | D11: RAHASIA | F11: RAHASIA | H11: RAHASIA
B13: RAHASIA | D13: RAHASIA | F13: RAHASIA | H13: RAHASIA
B15: RAHASIA | D15: RAHASIA | F15: RAHASIA | H15: RAHASIA
B17: RAHASIA | D17: RAHASIA | F17: RAHASIA | H17: RAHASIA
B19: RAHASIA | D19: RAHASIA | F19: RAHASIA | H19: RAHASIA
B21: RAHASIA | D21: RAHASIA | F21: RAHASIA | H21: RAHASIA
B23: RAHASIA | D23: RAHASIA | F23: RAHASIA | H23: RAHASIA
... B39: RAHASIA | D39: RAHASIA | F39: RAHASIA | H39: RAHASIA
